{
 "currentVersion": 11.5,
 "cimVersion": "3.5.0",
 "serviceDescription": "The US Geological Survey\u2019s Grand Canyon Monitoring and Research Center (GCMRC), formally established in October of 1996, measures effects of Glen Canyon Dam operations on the resources along the Colorado River from Glen Canyon Dam to Lake Mead. As the science provider to the Glen Canyon Dam Adaptive Management Program (GCDAMP), GCMRC designs and implements scientific studies to meet the objectives put forward by resources managers of the GCDAMP. In addition to its role as the science arm of GCDAMP, GCMRC is also responsible for disseminating both the data collected in support of science objectives as well as the results of the studies conducted. \n\nThis online service provides base GIS layers most commonly used by the U.S. Geological Survey's Grand Canyon Monitoring and Research Center. The data sets available through this service include GCMRC's river mile system, locations and names of river rapids, tributaries and other geographic place names.",
 "mapName": "GrandCanyonBaseLayers2011",
 "description": "The US Geological Survey\u2019s Grand Canyon Monitoring and Research Center (GCMRC), formally established in October of 1996, measures effects of Glen Canyon Dam operations on the resources along the Colorado River from Glen Canyon Dam to Lake Mead. As the science provider to the Glen Canyon Dam Adaptive Management Program (GCDAMP), GCMRC designs and implements scientific studies to meet the objectives put forward by resources managers of the GCDAMP. In addition to its role as the science arm of GCDAMP, GCMRC is also responsible for disseminating both the data collected in support of science objectives as well as the results of the studies conducted. \n\nThis online service provides base GIS layers most commonly used by the U.S. Geological Survey's Grand Canyon Monitoring and Research Center. The data sets available through this service include GCMRC's river mile system, locations and names of river rapids, tributaries and other geographic place names.",
 "copyrightText": "USGS, GCMRC",
 "supportsDynamicLayers": true,
 "layers": [
  {
   "id": 0,
   "name": "Cities",
   "parentLayerId": -1,
   "defaultVisibility": true,
   "subLayerIds": null,
   "minScale": 2000000,
   "maxScale": 7812.5,
   "type": "Feature Layer",
   "geometryType": "esriGeometryPoint",
   "supportsDynamicLegends": true
  },
  {
   "id": 1,
   "name": "Base Map Annotation",
   "parentLayerId": -1,
   "defaultVisibility": true,
   "subLayerIds": null,
   "minScale": 250000,
   "maxScale": 1953.125,
   "type": "Feature Layer",
   "geometryType": "esriGeometryPoint",
   "supportsDynamicLegends": true
  },
  {
   "id": 5,
   "name": "River Rapids",
   "parentLayerId": -1,
   "defaultVisibility": true,
   "subLayerIds": null,
   "minScale": 62500,
   "maxScale": 1953.125,
   "type": "Feature Layer",
   "geometryType": "esriGeometryPoint",
   "supportsDynamicLegends": true
  },
  {
   "id": 2,
   "name": "River Miles",
   "parentLayerId": -1,
   "defaultVisibility": true,
   "subLayerIds": null,
   "minScale": 500000,
   "maxScale": 15625,
   "type": "Feature Layer",
   "geometryType": "esriGeometryPoint",
   "supportsDynamicLegends": true
  },
  {
   "id": 3,
   "name": "River Mile Tenths",
   "parentLayerId": -1,
   "defaultVisibility": true,
   "subLayerIds": null,
   "minScale": 62500,
   "maxScale": 1953.125,
   "type": "Feature Layer",
   "geometryType": "esriGeometryPoint",
   "supportsDynamicLegends": true
  },
  {
   "id": 4,
   "name": "Colorado River",
   "parentLayerId": -1,
   "defaultVisibility": true,
   "subLayerIds": null,
   "minScale": 2000000,
   "maxScale": 15625,
   "type": "Feature Layer",
   "geometryType": "esriGeometryPolyline",
   "supportsDynamicLegends": true
  },
  {
   "id": 6,
   "name": "Roads",
   "parentLayerId": -1,
   "defaultVisibility": true,
   "subLayerIds": null,
   "minScale": 2000000,
   "maxScale": 7812.5,
   "type": "Feature Layer",
   "geometryType": "esriGeometryPolyline",
   "supportsDynamicLegends": true
  },
  {
   "id": 7,
   "name": "Tributary Labels",
   "parentLayerId": -1,
   "defaultVisibility": true,
   "subLayerIds": null,
   "minScale": 15625,
   "maxScale": 1953,
   "type": "Feature Layer",
   "geometryType": "esriGeometryPolyline",
   "supportsDynamicLegends": true
  },
  {
   "id": 8,
   "name": "Major Tributaries",
   "parentLayerId": -1,
   "defaultVisibility": true,
   "subLayerIds": null,
   "minScale": 1000000,
   "maxScale": 7812,
   "type": "Feature Layer",
   "geometryType": "esriGeometryPolyline",
   "supportsDynamicLegends": true
  }
 ],
 "tables": [],
 "spatialReference": {
  "wkid": 102988,
  "latestWkid": 6404,
  "vcsWkid": 115755,
  "latestVcsWkid": 115755,
  "xyTolerance": 0.001,
  "zTolerance": 2,
  "mTolerance": 0.001,
  "falseX": -5409200,
  "falseY": -13431700,
  "xyUnits": 10000,
  "falseZ": 0,
  "zUnits": 1,
  "falseM": -1.301912677263079E-6,
  "mUnits": 768100.6702402123
 },
 "singleFusedMapCache": true,
 "tileInfo": {
  "rows": 512,
  "cols": 512,
  "dpi": 96,
  "format": "MIXED",
  "compressionQuality": 75,
  "origin": {
   "x": -56672,
   "y": 715320
  },
  "spatialReference": {
   "wkid": 102988,
   "latestWkid": 6404,
   "vcsWkid": 115755,
   "latestVcsWkid": 115755,
   "xyTolerance": 0.001,
   "zTolerance": 2,
   "mTolerance": 0.001,
   "falseX": -5409200,
   "falseY": -13431700,
   "xyUnits": 10000,
   "falseZ": 0,
   "zUnits": 1,
   "falseM": -1.301912677263079E-6,
   "mUnits": 768100.6702402123
  },
  "lods": [
   {
    "level": 0,
    "resolution": 529.1677250021168,
    "scale": 2000000
   },
   {
    "level": 1,
    "resolution": 264.5838625010584,
    "scale": 1000000
   },
   {
    "level": 2,
    "resolution": 132.2919312505292,
    "scale": 500000
   },
   {
    "level": 3,
    "resolution": 66.1459656252646,
    "scale": 250000
   },
   {
    "level": 4,
    "resolution": 33.0729828126323,
    "scale": 125000
   },
   {
    "level": 5,
    "resolution": 16.53649140631615,
    "scale": 62500
   },
   {
    "level": 6,
    "resolution": 8.268245703158074,
    "scale": 31250
   },
   {
    "level": 7,
    "resolution": 4.134122851579037,
    "scale": 15625
   },
   {
    "level": 8,
    "resolution": 2.0670614257895186,
    "scale": 7812.5
   }
  ]
 },
 "storageInfo": {
  "storageFormat": "esriMapCacheStorageModeCompactV2",
  "packetSize": 128
 },
 "initialExtent": {
  "xmin": -7392.462780027563,
  "ymin": 462955.19497250067,
  "xmax": 263199.77818002726,
  "ymax": 714321.145127499,
  "spatialReference": {
   "wkid": 102988,
   "latestWkid": 6404,
   "vcsWkid": 115755,
   "latestVcsWkid": 115755,
   "xyTolerance": 0.001,
   "zTolerance": 2,
   "mTolerance": 0.001,
   "falseX": -5409200,
   "falseY": -13431700,
   "xyUnits": 10000,
   "falseZ": 0,
   "zUnits": 1,
   "falseM": -1.301912677263079E-6,
   "mUnits": 768100.6702402123
  }
 },
 "fullExtent": {
  "xmin": -56672.66181652254,
  "ymin": 459461.0808194158,
  "xmax": 312523.84263660514,
  "ymax": 715319.4603575529,
  "spatialReference": {
   "wkid": 102988,
   "latestWkid": 6404,
   "vcsWkid": 115755,
   "latestVcsWkid": 115755,
   "xyTolerance": 0.001,
   "zTolerance": 2,
   "mTolerance": 0.001,
   "falseX": -5409200,
   "falseY": -13431700,
   "xyUnits": 10000,
   "falseZ": 0,
   "zUnits": 1,
   "falseM": -1.301912677263079E-6,
   "mUnits": 768100.6702402123
  }
 },
 "datesInUnknownTimezone": false,
 "minScale": 2000000,
 "maxScale": 7812.5,
 "minLOD": 0,
 "maxLOD": 8,
 "units": "esriMeters",
 "supportedImageFormatTypes": "PNG32,PNG24,PNG,JPG,DIB,TIFF,EMF,PS,PDF,GIF,SVG,SVGZ,BMP",
 "documentInfo": {
  "Title": "Grand Canyon Base Layers",
  "Author": "",
  "Comments": "The US Geological Survey\u2019s Grand Canyon Monitoring and Research Center (GCMRC), formally established in October of 1996, measures effects of Glen Canyon Dam operations on the resources along the Colorado River from Glen Canyon Dam to Lake Mead. As the science provider to the Glen Canyon Dam Adaptive Management Program (GCDAMP), GCMRC designs and implements scientific studies to meet the objectives put forward by resources managers of the GCDAMP. In addition to its role as the science arm of GCDAMP, GCMRC is also responsible for disseminating both the data collected in support of science objectives as well as the results of the studies conducted. \n\nThis online service provides base GIS layers most commonly used by the U.S. Geological Survey's Grand Canyon Monitoring and Research Center. The data sets available through this service include GCMRC's river mile system, locations and names of river rapids, tributaries and other geographic place names.",
  "Subject": "This online service provides base GIS layers most commonly used by the U.S. Geological Survey's Grand Canyon Monitoring and Research Center.",
  "Category": "",
  "Version": "2.9.0",
  "AntialiasingMode": "Fast",
  "TextAntialiasingMode": "Force",
  "Keywords": "Colorado River,GCMRC,Grand Canyon,Map Service,River Miles,Tributaries,USGS"
 },
 "supportsQueryDomains": true,
 "capabilities": "Map,Query,Data",
 "supportedQueryFormats": "JSON, geoJSON, PBF",
 "exportTilesAllowed": true,
 "maxExportTilesCount": 100000,
 "referenceScale": 0.0,
 "datumTransformations": [
  {
   "geoTransforms": [
    {
     "wkid": 108001,
     "latestWkid": 1241,
     "transformForward": true,
     "name": "NAD_1927_To_NAD_1983_NADCON"
    }
   ]
  },
  {
   "geoTransforms": [
    {
     "wkid": 108001,
     "latestWkid": 1241,
     "transformForward": false,
     "name": "NAD_1927_To_NAD_1983_NADCON"
    }
   ]
  },
  {
   "geoTransforms": [
    {
     "wkid": 108190,
     "latestWkid": 108190,
     "transformForward": true,
     "name": "WGS_1984_(ITRF00)_To_NAD_1983"
    }
   ]
  },
  {
   "geoTransforms": [
    {
     "wkid": 108190,
     "latestWkid": 108190,
     "transformForward": false,
     "name": "WGS_1984_(ITRF00)_To_NAD_1983"
    }
   ]
  },
  {
   "geoTransforms": [
    {
     "wkid": 108363,
     "latestWkid": 108363,
     "transformForward": true,
     "name": "WGS_1984_(ITRF08)_To_NAD_1983_2011"
    }
   ]
  },
  {
   "geoTransforms": [
    {
     "wkid": 108363,
     "latestWkid": 108363,
     "transformForward": false,
     "name": "WGS_1984_(ITRF08)_To_NAD_1983_2011"
    }
   ]
  },
  {
   "geoTransforms": [
    {
     "wkid": 108190,
     "latestWkid": 108190,
     "transformForward": false,
     "name": "WGS_1984_(ITRF00)_To_NAD_1983"
    },
    {
     "wkid": 108363,
     "latestWkid": 108363,
     "transformForward": true,
     "name": "WGS_1984_(ITRF08)_To_NAD_1983_2011"
    }
   ]
  },
  {
   "geoTransforms": [
    {
     "wkid": 108363,
     "latestWkid": 108363,
     "transformForward": false,
     "name": "WGS_1984_(ITRF08)_To_NAD_1983_2011"
    },
    {
     "wkid": 108190,
     "latestWkid": 108190,
     "transformForward": true,
     "name": "WGS_1984_(ITRF00)_To_NAD_1983"
    }
   ]
  }
 ],
 "supportsDatumTransformation": true,
 "floorAwareMapProperties": {
  "defaultFloorFilterSettings": {
   "isEnabled": true
  }
 },
 "heightModelInfo": {
  "heightModel": "ellipsoidal",
  "vertCRS": "NAD_1983_2011",
  "heightUnit": "meter"
 },
 "supportsVCSProjection": true,
 "archivingInfo": {
  "supportsHistoricMoment": false
 },
 "supportsClipping": true,
 "supportsSpatialFilter": true,
 "supportsTimeRelation": true,
 "supportsQueryDataElements": true,
 "mapUnits": {
  "uwkid": 9001
 },
 "maxSelectionCount": 2000,
 "maxRecordCount": 2000,
 "maxImageHeight": 4096,
 "maxImageWidth": 4096,
 "supportedExtensions": "FeatureServer, WMSServer"
}
