{
 "currentVersion": 11.5,
 "serviceDescription": "LakePowell/LakePowell_TopoBathyDEM_1m_2021",
 "name": "LakePowell/LakePowell_TopoBathyDEM_1m_2021",
 "description": "",
 "extent": {
  "xmin": 445520.7322771633,
  "ymin": 4076615.942936342,
  "xmax": 575694.7322771633,
  "ymax": 4206542.942936342,
  "spatialReference": {
   "wkid": 102059,
   "latestWkid": 6341
  }
 },
 "initialExtent": {
  "xmin": 445520.7322771633,
  "ymin": 4076615.942936342,
  "xmax": 575694.7322771633,
  "ymax": 4206542.942936342,
  "spatialReference": {
   "wkid": 102059,
   "latestWkid": 6341
  }
 },
 "fullExtent": {
  "xmin": 445520.7322771633,
  "ymin": 4076615.942936342,
  "xmax": 575694.7322771633,
  "ymax": 4206542.942936342,
  "spatialReference": {
   "wkid": 102059,
   "latestWkid": 6341
  }
 },
 "sortableFields": "",
 "bandCount": 1,
 "pixelType": "F32",
 "minValues": [
  948.3123168945312
 ],
 "maxValues": [
  1440.9447021484375
 ],
 "meanValues": [
  1093.2703974413862
 ],
 "stdvValues": [
  44.70557624870941
 ],
 "serviceProperties": "Center<\/MosaicMethod>First<\/MosaicOperator>true<\/SortAscending><\/LockImageID><\/TileOrderField>0<\/TileOrderBase>0.000000<\/AvgImageSpacingX>0.000000<\/AvgImageSpacingY>0.0<\/ViewPointX>0.0<\/ViewPointY>0.0<\/ViewPointDefShiftX>0.0<\/ViewPointDefShiftY>None<\/CompressionMethod>75<\/CompressionQuality>0.010000<\/CompressionTolerance>Bilinear<\/SamplingMethod><\/ImageServiceProperties><\/ImageServer>",
 "allowedFields": "",
 "hasMultidimensions": false,
 "pixelSizeX": 1,
 "pixelSizeY": 1,
 "meanPixelSize": 1,
 "datasetFormat": "SDR",
 "uncompressedSize": 67652469192,
 "blockWidth": 128,
 "blockHeight": 128,
 "compressionType": "LZ77",
 "bandNames": [
  "Band_1"
 ],
 "allowCopy": true,
 "allowAnalysis": true,
 "itemAccess": false,
 "inspectionCapabilities": "",
 "minPixelSize": 0,
 "maxPixelSize": 0,
 "copyrightText": "",
 "serviceDataType": "esriImageServiceDataTypeGeneric",
 "serviceSourceType": "esriImageServiceSourceTypeDataset",
 "objectIdField": "",
 "fields": [],
 "capabilities": "Image,Metadata,Mensuration",
 "defaultMosaicMethod": "Center",
 "allowedMosaicMethods": "",
 "sortField": "",
 "sortValue": null,
 "sortAscending": true,
 "mosaicOperator": "First",
 "defaultCompressionQuality": 75,
 "defaultResamplingMethod": "Bilinear",
 "maxImageHeight": 4100,
 "maxImageWidth": 15000,
 "allowRasterFunction": true,
 "rasterFunctionInfos": [
  {
   "name": "LakePowell-TopoBathyDEM-2021-RFT",
   "description": "This raster function template is designed for rendering the Lake Powell Topography - Bathymetry (TopoBathy) Digital Elevation Model (DEM) using a custom color ramp and data stretch assignment.",
   "help": ""
  },
  {
   "name": "None",
   "description": "",
   "help": ""
  }
 ],
 "rasterTypeInfos": [
  {
   "name": "Raster Dataset",
   "description": "Supports all ArcGIS Raster Datasets",
   "help": ""
  }
 ],
 "mensurationCapabilities": "Basic",
 "hasHistograms": true,
 "hasColormap": false,
 "hasRasterAttributeTable": false,
 "minScale": 0,
 "maxScale": 0,
 "exportTilesAllowed": false,
 "supportsStatistics": false,
 "supportsAdvancedQueries": false,
 "editFieldsInfo": null,
 "ownershipBasedAccessControlForRasters": null,
 "allowComputeTiePoints": false,
 "useStandardizedQueries": true,
 "advancedQueryCapabilities": {
  "useStandardizedQueries": true,
  "supportsStatistics": false,
  "supportsOrderBy": false,
  "supportsDistinct": false,
  "supportsPagination": false
 },
 "spatialReference": {
  "wkid": 102059,
  "latestWkid": 6341
 }
}
