<?xml version="1.0" encoding="UTF-8" standalone="no"?>
<metadata xml:lang="en">
  <Esri>
    <CreaDate>20180522</CreaDate>
    <CreaTime>11511400</CreaTime>
    <ArcGISFormat>1.0</ArcGISFormat>
    <ArcGISstyle>FGDC CSDGM Metadata</ArcGISstyle>
    <SyncOnce>FALSE</SyncOnce>
    <DataProperties>
      <itemProps>
        <itemName Sync="TRUE">physical.sde.Glen_2014_1m_DEM</itemName>
        <imsContentType Sync="TRUE">002</imsContentType>
        <nativeExtBox>
          <westBL Sync="TRUE">242321.000000</westBL>
          <eastBL Sync="TRUE">252511.000000</eastBL>
          <southBL Sync="TRUE">647631.000000</southBL>
          <northBL Sync="TRUE">658607.000000</northBL>
          <exTypeCode Sync="TRUE">1</exTypeCode>
        </nativeExtBox>
        <itemLocation>
          <linkage Sync="TRUE">Server=130.118.163.8; Service=sde:postgresql:130.118.163.8,5432; Database=physical; User=sde; Version=sde.DEFAULT</linkage>
          <protocol Sync="TRUE">ArcSDE Connection</protocol>
        </itemLocation>
      </itemProps>
      <coordRef>
        <type Sync="TRUE">Projected</type>
        <geogcsn Sync="TRUE">GCS_NAD_1983_2011</geogcsn>
        <csUnits Sync="TRUE">Linear Unit: Meter (1.000000)</csUnits>
        <projcsn Sync="TRUE">NAD_1983_2011_StatePlane_Arizona_Central_FIPS_0202</projcsn>
        <peXml Sync="TRUE">&lt;ProjectedCoordinateSystem xsi:type='typens:ProjectedCoordinateSystem' xmlns:xsi='http://www.w3.org/2001/XMLSchema-instance' xmlns:xs='http://www.w3.org/2001/XMLSchema' xmlns:typens='http://www.esri.com/schemas/ArcGIS/10.8'&gt;&lt;WKT&gt;PROJCS[&amp;quot;NAD_1983_2011_StatePlane_Arizona_Central_FIPS_0202&amp;quot;,GEOGCS[&amp;quot;GCS_NAD_1983_2011&amp;quot;,DATUM[&amp;quot;D_NAD_1983_2011&amp;quot;,SPHEROID[&amp;quot;GRS_1980&amp;quot;,6378137.0,298.257222101]],PRIMEM[&amp;quot;Greenwich&amp;quot;,0.0],UNIT[&amp;quot;Degree&amp;quot;,0.0174532925199433]],PROJECTION[&amp;quot;Transverse_Mercator&amp;quot;],PARAMETER[&amp;quot;False_Easting&amp;quot;,213360.0],PARAMETER[&amp;quot;False_Northing&amp;quot;,0.0],PARAMETER[&amp;quot;Central_Meridian&amp;quot;,-111.9166666666667],PARAMETER[&amp;quot;Scale_Factor&amp;quot;,0.9999],PARAMETER[&amp;quot;Latitude_Of_Origin&amp;quot;,31.0],UNIT[&amp;quot;Meter&amp;quot;,1.0],AUTHORITY[&amp;quot;EPSG&amp;quot;,6404]]&lt;/WKT&gt;&lt;XOrigin&gt;-5409200&lt;/XOrigin&gt;&lt;YOrigin&gt;-13431700&lt;/YOrigin&gt;&lt;XYScale&gt;450310428.58990461&lt;/XYScale&gt;&lt;ZOrigin&gt;-100000&lt;/ZOrigin&gt;&lt;ZScale&gt;10000&lt;/ZScale&gt;&lt;MOrigin&gt;-100000&lt;/MOrigin&gt;&lt;MScale&gt;10000&lt;/MScale&gt;&lt;XYTolerance&gt;0.001&lt;/XYTolerance&gt;&lt;ZTolerance&gt;0.00020000000000000001&lt;/ZTolerance&gt;&lt;MTolerance&gt;0.00020000000000000001&lt;/MTolerance&gt;&lt;HighPrecision&gt;true&lt;/HighPrecision&gt;&lt;WKID&gt;102988&lt;/WKID&gt;&lt;LatestWKID&gt;6404&lt;/LatestWKID&gt;&lt;/ProjectedCoordinateSystem&gt;</peXml>
      </coordRef>
      <RasterProperties>
        <General>
          <PixelDepth Sync="TRUE">32</PixelDepth>
          <HasColormap Sync="TRUE">FALSE</HasColormap>
          <CompressionType Sync="TRUE">LZW</CompressionType>
          <NumBands Sync="TRUE">1</NumBands>
          <Format Sync="TRUE">TIFF</Format>
          <HasPyramids Sync="TRUE">TRUE</HasPyramids>
          <SourceType Sync="TRUE">continuous</SourceType>
          <PixelType Sync="TRUE">floating point</PixelType>
          <NoDataValue Sync="TRUE">-3.4028231e+038</NoDataValue>
        </General>
      </RasterProperties>
      <lineage>
        <Process Date="20181214" Time="114936" ToolSource="c:\arcgis\desktop10.5\ArcToolbox\Toolboxes\Data Management Tools.tbx\CopyRaster">CopyRaster F:\P_Drive_Backup\Channel_Mapping\data_2014_11\Analysis\GIS\Geodatabases\GlenCanyonChannelMap_DEM_REPROCESS.gdb\GlenCanyonCM_DSM_Mos_ElevVoidFillFunc_Clip_REPROCESS F:\P_Drive_Backup\Channel_Mapping\data_2014_11\Analysis\GIS\Final_datasets\Glen_2014_1m_DEM.tif # # -3.402823e+038 NONE NONE # NONE NONE TIFF NONE</Process>
        <Process Date="20221017" Time="154657" ToolSource="c:\arcgis\pro\Resources\ArcToolbox\toolboxes\Data Management Tools.tbx\ChangePrivileges">ChangePrivileges C:\Users\tgushue\AppData\Roaming\Esri\ArcGISPro\Favorites\physical-pgadmin.sde\physical.sde.CM_00_GLN_2014_1m_DEM;C:\Users\tgushue\AppData\Roaming\Esri\ArcGISPro\Favorites\physical-pgadmin.sde\physical.sde.CM_00_GLN_2014_1m_HSD;C:\Users\tgushue\AppData\Roaming\Esri\ArcGISPro\Favorites\physical-pgadmin.sde\physical.sde.CM_00_GLN_2014_1m_MDHSD;C:\Users\tgushue\AppData\Roaming\Esri\ArcGISPro\Favorites\physical-pgadmin.sde\physical.sde.CM_00_GLN_2014_BedClass;C:\Users\tgushue\AppData\Roaming\Esri\ArcGISPro\Favorites\physical-pgadmin.sde\physical.sde.CM_00_GLN_2014_PtDensity;C:\Users\tgushue\AppData\Roaming\Esri\ArcGISPro\Favorites\physical-pgadmin.sde\physical.sde.CM_00_GLN_2014_Source;C:\Users\tgushue\AppData\Roaming\Esri\ArcGISPro\Favorites\physical-pgadmin.sde\physical.sde.CM_00_GLN_2014_uncertainty;C:\Users\tgushue\AppData\Roaming\Esri\ArcGISPro\Favorites\physical-pgadmin.sde\physical.sde.CM_01_UMC_2013_1m_DEM;C:\Users\tgushue\AppData\Roaming\Esri\ArcGISPro\Favorites\physical-pgadmin.sde\physical.sde.CM_01_UMC_2013_1m_HSD;C:\Users\tgushue\AppData\Roaming\Esri\ArcGISPro\Favorites\physical-pgadmin.sde\physical.sde.CM_01_UMC_2013_1m_PtDensity;C:\Users\tgushue\AppData\Roaming\Esri\ArcGISPro\Favorites\physical-pgadmin.sde\physical.sde.CM_01_UMC_2013_1m_Source;C:\Users\tgushue\AppData\Roaming\Esri\ArcGISPro\Favorites\physical-pgadmin.sde\physical.sde.CM_01_UMC_2013_1m_Uncertainty;C:\Users\tgushue\AppData\Roaming\Esri\ArcGISPro\Favorites\physical-pgadmin.sde\physical.sde.CM_01_UMC_2016_1m_DEM;C:\Users\tgushue\AppData\Roaming\Esri\ArcGISPro\Favorites\physical-pgadmin.sde\physical.sde.CM_01_UMC_2016_1m_HSD;C:\Users\tgushue\AppData\Roaming\Esri\ArcGISPro\Favorites\physical-pgadmin.sde\physical.sde.CM_01_UMC_2016_1m_PtDensity;C:\Users\tgushue\AppData\Roaming\Esri\ArcGISPro\Favorites\physical-pgadmin.sde\physical.sde.CM_01_UMC_2016_1m_Source;C:\Users\tgushue\AppData\Roaming\Esri\ArcGISPro\Favorites\physical-pgadmin.sde\physical.sde.CM_01_UMC_2016_1m_Uncertainty;C:\Users\tgushue\AppData\Roaming\Esri\ArcGISPro\Favorites\physical-pgadmin.sde\physical.sde.CM_02_LMC_2009_1m_DEM;C:\Users\tgushue\AppData\Roaming\Esri\ArcGISPro\Favorites\physical-pgadmin.sde\physical.sde.CM_02_LMC_2009_1m_HSD;C:\Users\tgushue\AppData\Roaming\Esri\ArcGISPro\Favorites\physical-pgadmin.sde\physical.sde.CM_02_LMC_2009_BedClass;C:\Users\tgushue\AppData\Roaming\Esri\ArcGISPro\Favorites\physical-pgadmin.sde\physical.sde.CM_02_LMC_2009_uncertainty;C:\Users\tgushue\AppData\Roaming\Esri\ArcGISPro\Favorites\physical-pgadmin.sde\physical.sde.CM_02_LMC_2012_1m_DEM;C:\Users\tgushue\AppData\Roaming\Esri\ArcGISPro\Favorites\physical-pgadmin.sde\physical.sde.CM_02_LMC_2012_1m_HSD;C:\Users\tgushue\AppData\Roaming\Esri\ArcGISPro\Favorites\physical-pgadmin.sde\physical.sde.CM_02_LMC_2012_BedClass;C:\Users\tgushue\AppData\Roaming\Esri\ArcGISPro\Favorites\physical-pgadmin.sde\physical.sde.CM_02_LMC_2012_Source;C:\Users\tgushue\AppData\Roaming\Esri\ArcGISPro\Favorites\physical-pgadmin.sde\physical.sde.CM_02_LMC_2012_Uncertainty;C:\Users\tgushue\AppData\Roaming\Esri\ArcGISPro\Favorites\physical-pgadmin.sde\physical.sde.CM_03_EGC_2011_1m_DEM;C:\Users\tgushue\AppData\Roaming\Esri\ArcGISPro\Favorites\physical-pgadmin.sde\physical.sde.CM_03_EGC_2011_1m_HSD;C:\Users\tgushue\AppData\Roaming\Esri\ArcGISPro\Favorites\physical-pgadmin.sde\physical.sde.CM_03_EGC_2011_BedClass;C:\Users\tgushue\AppData\Roaming\Esri\ArcGISPro\Favorites\physical-pgadmin.sde\physical.sde.CM_03_EGC_2011_PtDensity;C:\Users\tgushue\AppData\Roaming\Esri\ArcGISPro\Favorites\physical-pgadmin.sde\physical.sde.CM_03_EGC_2011_Source;C:\Users\tgushue\AppData\Roaming\Esri\ArcGISPro\Favorites\physical-pgadmin.sde\physical.sde.CM_03_EGC_2014_1m_DEM;C:\Users\tgushue\AppData\Roaming\Esri\ArcGISPro\Favorites\physical-pgadmin.sde\physical.sde.CM_03_EGC_2014_1m_HSD;C:\Users\tgushue\AppData\Roaming\Esri\ArcGISPro\Favorites\physical-pgadmin.sde\physical.sde.CM_03_EGC_2014_BedClass;C:\Users\tgushue\AppData\Roaming\Esri\ArcGISPro\Favorites\physical-pgadmin.sde\physical.sde.CM_03_EGC_2014_ptDensity;C:\Users\tgushue\AppData\Roaming\Esri\ArcGISPro\Favorites\physical-pgadmin.sde\physical.sde.CM_03_EGC_2014_Source service_public "Grant view privileges" "Do not change edit privileges"</Process>
      </lineage>
    </DataProperties>
    <SyncDate>20220523</SyncDate>
    <SyncTime>20043100</SyncTime>
    <ModDate>20220523</ModDate>
    <ModTime>20043100</ModTime>
  </Esri>
  <dataIdInfo>
    <envirDesc Sync="TRUE"> Version 6.2 (Build 9200) ; Esri ArcGIS 10.8.1.14362</envirDesc>
    <dataLang>
      <languageCode Sync="TRUE" value="eng"/>
      <countryCode Sync="TRUE" value="USA"/>
    </dataLang>
    <idCitation>
      <resTitle Sync="TRUE">ChannelMap_00_GlenCanyon_2014_1m_DEM</resTitle>
      <presForm>
        <PresFormCd Sync="TRUE" value="011"/>
      </presForm>
    </idCitation>
    <spatRpType>
      <SpatRepTypCd Sync="TRUE" value="002"/>
    </spatRpType>
    <dataExt>
      <geoEle>
        <GeoBndBox esriExtentType="search">
          <exTypeCode Sync="TRUE">1</exTypeCode>
          <westBL Sync="TRUE">-111.591957</westBL>
          <eastBL Sync="TRUE">-111.477143</eastBL>
          <northBL Sync="TRUE">36.937706</northBL>
          <southBL Sync="TRUE">36.838426</southBL>
        </GeoBndBox>
      </geoEle>
    </dataExt>
    <idAbs>Bathymetric, topographic, and grain-size data were collected from May 2013 to October 2016 along a 15-mi reach of the Colorado River in Glen Canyon National Recreation Area, Arizona by the U.S. Geological Survey Grand Canyon Monitoring and Research Center. The study reach is located from river miles -15 at the base of Glen Canyon Dam to 0 at Lees Ferry. Channel bathymetry was mapped using multi-beam bathymetry collected in November 2014 and single beam bathymetry collected in February 2015, August 2015, February 2016, and June 2016. Subaerial topography was mapped using photogrammetry derived from aerial Imagery collected in May 2013 and ground-based total-stations collected in February 2015, October 2015, and October 2016. Bed-sediment grain-size data were collected in November 2014 using an underwater digital microscope system. These data were combined to produce digital elevation models, spatially variable estimates of digital elevation model uncertainty, georeferenced grain-size data, and bed-sediment distribution maps.</idAbs>
    <searchKeys>
      <keyword>Digital Elevation Model</keyword>
      <keyword>Bathymetry</keyword>
      <keyword>Topography</keyword>
      <keyword>Colorado River</keyword>
      <keyword>Glen Canyon</keyword>
      <keyword>Glen Canyon Dam</keyword>
      <keyword>Lee's Ferry</keyword>
      <keyword>Grand Canyon National Park</keyword>
      <keyword>Glen Canyon National Recreation Area</keyword>
      <keyword>Arizona</keyword>
    </searchKeys>
    <idPurp>This image service provides access to the channel bathymetry and topography combined Digital Elevation Model collected in Glen Canyon during November 2014 and May 2015 missions as part of the USGS Grand Canyon Monitoring and Research Center's Sediment Storage Monitoring project that conducts channel mapping data collections efforts for defined reaches of the Colorado River downstream of Glen Canyon Dam.  Republished to match new data source.</idPurp>
    <idCredit>USGS GCMRC</idCredit>
    <resConst>
      <Consts>
        <useLimit>none</useLimit>
      </Consts>
    </resConst>
  </dataIdInfo>
  <mdLang>
    <languageCode Sync="TRUE" value="eng"/>
    <countryCode Sync="TRUE" value="USA"/>
  </mdLang>
  <distInfo>
    <distFormat>
      <formatName Sync="TRUE">SDE Raster Dataset</formatName>
    </distFormat>
  </distInfo>
  <mdHrLv>
    <ScopeCd Sync="TRUE" value="005"/>
  </mdHrLv>
  <mdHrLvName Sync="TRUE">dataset</mdHrLvName>
  <refSysInfo>
    <RefSystem>
      <refSysID>
        <identCode Sync="TRUE" code="6404"/>
        <idCodeSpace Sync="TRUE">EPSG</idCodeSpace>
        <idVersion Sync="TRUE">8.2.10(10.3.1)</idVersion>
      </refSysID>
    </RefSystem>
  </refSysInfo>
  <spdoinfo>
    <rastinfo>
      <rasttype Sync="TRUE">Pixel</rasttype>
      <rowcount Sync="TRUE">10976</rowcount>
      <colcount Sync="TRUE">10190</colcount>
      <rastxsz Sync="TRUE">1.000000</rastxsz>
      <rastysz Sync="TRUE">1.000000</rastysz>
      <rastbpp Sync="TRUE">32</rastbpp>
      <vrtcount Sync="TRUE">1</vrtcount>
      <rastorig Sync="TRUE">Upper Left</rastorig>
      <rastcmap Sync="TRUE">FALSE</rastcmap>
      <rastcomp Sync="TRUE">LZ77</rastcomp>
      <rastband Sync="TRUE">1</rastband>
      <rastdtyp Sync="TRUE">pixel codes</rastdtyp>
      <rastifor Sync="TRUE">SDR</rastifor>
      <rastplyr Sync="TRUE">TRUE</rastplyr>
    </rastinfo>
  </spdoinfo>
  <spref>
    <horizsys>
      <planar>
        <planci>
          <plance Sync="TRUE">row and column</plance>
          <coordrep>
            <absres Sync="TRUE">1.000000</absres>
            <ordres Sync="TRUE">1.000000</ordres>
          </coordrep>
        </planci>
      </planar>
    </horizsys>
  </spref>
  <mdDateSt Sync="TRUE">20220523</mdDateSt>
  <spatRepInfo>
    <Georect>
      <cellGeo>
        <CellGeoCd Sync="TRUE" value="002"/>
      </cellGeo>
      <numDims Sync="TRUE">2</numDims>
      <tranParaAv Sync="TRUE">1</tranParaAv>
      <chkPtAv Sync="TRUE">0</chkPtAv>
      <cornerPts>
        <pos Sync="TRUE">242321.000000 647631.000000</pos>
      </cornerPts>
      <cornerPts>
        <pos Sync="TRUE">242321.000000 658607.000000</pos>
      </cornerPts>
      <cornerPts>
        <pos Sync="TRUE">252511.000000 658607.000000</pos>
      </cornerPts>
      <cornerPts>
        <pos Sync="TRUE">252511.000000 647631.000000</pos>
      </cornerPts>
      <centerPt>
        <pos Sync="TRUE">247416.000000 653119.000000</pos>
      </centerPt>
      <axisDimension type="002">
        <dimSize Sync="TRUE">10190</dimSize>
        <dimResol>
          <value Sync="TRUE" uom="m">1.000000</value>
        </dimResol>
      </axisDimension>
      <axisDimension type="001">
        <dimSize Sync="TRUE">10976</dimSize>
        <dimResol>
          <value Sync="TRUE" uom="m">1.000000</value>
        </dimResol>
      </axisDimension>
      <ptInPixel>
        <PixOrientCd Sync="TRUE" value="001"/>
      </ptInPixel>
    </Georect>
  </spatRepInfo>
  <contInfo>
    <ImgDesc>
      <contentTyp>
        <ContentTypCd Sync="TRUE" value="001"/>
      </contentTyp>
      <covDim>
        <Band>
          <dimDescrp Sync="TRUE">Band_1</dimDescrp>
          <maxVal Sync="TRUE">1339.103394</maxVal>
          <minVal Sync="TRUE">902.293396</minVal>
          <bitsPerVal Sync="TRUE">32</bitsPerVal>
          <valUnit>
            <UOM type="length"/>
          </valUnit>
        </Band>
      </covDim>
    </ImgDesc>
  </contInfo>
</metadata>
