{
 "currentVersion": 11.5,
 "serviceDescription": "Bathymetric, topographic, and grain-size data were collected from May 2013 to October 2016 along a 15-mi reach of the Colorado River in Glen Canyon National Recreation Area, Arizona by the U.S. Geological Survey Grand Canyon Monitoring and Research Center. The study reach is located from river miles -15 at the base of Glen Canyon Dam to 0 at Lees Ferry. Channel bathymetry was mapped using multi-beam bathymetry collected in November 2014 and single beam bathymetry collected in February 2015, August 2015, February 2016, and June 2016. Subaerial topography was mapped using photogrammetry derived from aerial Imagery collected in May 2013 and ground-based total-stations collected in February 2015, October 2015, and October 2016. Bed-sediment grain-size data were collected in November 2014 using an underwater digital microscope system. These data were combined to produce digital elevation models, spatially variable estimates of digital elevation model uncertainty, georeferenced grain-size data, and bed-sediment distribution maps.",
 "name": "Physical/ChannelMap_00_GlenCanyon_2014_1m_DEM",
 "description": "Bathymetric, topographic, and grain-size data were collected from May 2013 to October 2016 along a 15-mi reach of the Colorado River in Glen Canyon National Recreation Area, Arizona by the U.S. Geological Survey Grand Canyon Monitoring and Research Center. The study reach is located from river miles -15 at the base of Glen Canyon Dam to 0 at Lees Ferry. Channel bathymetry was mapped using multi-beam bathymetry collected in November 2014 and single beam bathymetry collected in February 2015, August 2015, February 2016, and June 2016. Subaerial topography was mapped using photogrammetry derived from aerial Imagery collected in May 2013 and ground-based total-stations collected in February 2015, October 2015, and October 2016. Bed-sediment grain-size data were collected in November 2014 using an underwater digital microscope system. These data were combined to produce digital elevation models, spatially variable estimates of digital elevation model uncertainty, georeferenced grain-size data, and bed-sediment distribution maps.",
 "extent": {
  "xmin": 242321,
  "ymin": 647631,
  "xmax": 252511,
  "ymax": 658607,
  "spatialReference": {
   "wkid": 102988,
   "latestWkid": 6404,
   "vcsWkid": 115755,
   "latestVcsWkid": 115755
  }
 },
 "initialExtent": {
  "xmin": 242321,
  "ymin": 647631,
  "xmax": 252511,
  "ymax": 658607,
  "spatialReference": {
   "wkid": 102988,
   "latestWkid": 6404,
   "vcsWkid": 115755,
   "latestVcsWkid": 115755
  }
 },
 "fullExtent": {
  "xmin": 242321,
  "ymin": 647631,
  "xmax": 252511,
  "ymax": 658607,
  "spatialReference": {
   "wkid": 102988,
   "latestWkid": 6404,
   "vcsWkid": 115755,
   "latestVcsWkid": 115755
  }
 },
 "sortableFields": "",
 "heightModelInfo": {
  "heightModel": "ellipsoidal",
  "vertCRS": "NAD_1983_2011",
  "heightUnit": "meter"
 },
 "bandCount": 1,
 "pixelType": "F32",
 "minValues": [
  902.2933959960938
 ],
 "maxValues": [
  1179.3096923828125
 ],
 "meanValues": [
  937.4229925043707
 ],
 "stdvValues": [
  20.2219340970147
 ],
 "serviceProperties": "Center<\/MosaicMethod>First<\/MosaicOperator>true<\/SortAscending><\/LockImageID><\/TileOrderField>0<\/TileOrderBase>0.000000<\/AvgImageSpacingX>0.000000<\/AvgImageSpacingY>0.0<\/ViewPointX>0.0<\/ViewPointY>0.0<\/ViewPointDefShiftX>0.0<\/ViewPointDefShiftY>None<\/CompressionMethod>75<\/CompressionQuality>0.010000<\/CompressionTolerance>Bilinear<\/SamplingMethod><\/ImageServiceProperties><\/ImageServer>",
 "allowedFields": "",
 "hasMultidimensions": false,
 "pixelSizeX": 1,
 "pixelSizeY": 1,
 "meanPixelSize": 1,
 "datasetFormat": "SDR",
 "uncompressedSize": 447381760,
 "blockWidth": 128,
 "blockHeight": 128,
 "compressionType": "LZ77",
 "bandNames": [
  "Band_1"
 ],
 "allowCopy": true,
 "allowAnalysis": true,
 "itemAccess": false,
 "inspectionCapabilities": "",
 "minPixelSize": 0,
 "maxPixelSize": 0,
 "copyrightText": "USGS GCMRC",
 "serviceDataType": "esriImageServiceDataTypeGeneric",
 "serviceSourceType": "esriImageServiceSourceTypeDataset",
 "objectIdField": "",
 "fields": [],
 "capabilities": "Image,Metadata,Pixels,Mensuration",
 "defaultMosaicMethod": "Center",
 "allowedMosaicMethods": "",
 "sortField": "",
 "sortValue": null,
 "sortAscending": true,
 "mosaicOperator": "First",
 "defaultCompressionQuality": 75,
 "defaultResamplingMethod": "Bilinear",
 "maxImageHeight": 4100,
 "maxImageWidth": 15000,
 "allowRasterFunction": true,
 "rasterFunctionInfos": [
  {
   "name": "None",
   "description": "Make a Raster or Raster Dataset into a Function Raster Dataset.",
   "help": ""
  }
 ],
 "rasterTypeInfos": [
  {
   "name": "Raster Dataset",
   "description": "Supports all ArcGIS Raster Datasets",
   "help": ""
  }
 ],
 "mensurationCapabilities": "Basic",
 "hasHistograms": true,
 "hasColormap": false,
 "hasRasterAttributeTable": false,
 "minScale": 0,
 "maxScale": 0,
 "exportTilesAllowed": false,
 "supportsStatistics": false,
 "supportsAdvancedQueries": false,
 "editFieldsInfo": null,
 "ownershipBasedAccessControlForRasters": null,
 "allowComputeTiePoints": false,
 "useStandardizedQueries": true,
 "advancedQueryCapabilities": {
  "useStandardizedQueries": true,
  "supportsStatistics": false,
  "supportsOrderBy": false,
  "supportsDistinct": false,
  "supportsPagination": false
 },
 "spatialReference": {
  "wkid": 102988,
  "latestWkid": 6404,
  "vcsWkid": 115755,
  "latestVcsWkid": 115755
 },
 "resampling": false
}
