{
 "currentVersion": 11.5,
 "cimVersion": "3.5.0",
 "serviceDescription": "These data were obtained from the U.S. Geological Survey's National Elevation Dataset, 1/3 Arc second resolution obtained in 2013. The Grand Canyon Monitoring and Research Center further processed these to build a multidirectional hillshade for the area covered by the DEM. The toolbox used was modified slightly to run on ArcGIS v10.3.1, and originally obtained from Relief Shading repository on GitHub (https://github.com/fveronesi/Relief_Shading), that was created and posted by Dr. Fabio Veronesi and Prof. Dr. Lorenz Hurni from Institute of Cartography and Geoinformation, ETH Zurich Stefano-Franscini-Platz 5, CH-8093 Zurich.",
 "mapName": "GrandCanyonShadedRelief_2011",
 "description": "These data were obtained from the U.S. Geological Survey's National Elevation Dataset, 1/3 Arc second resolution obtained in 2013. The Grand Canyon Monitoring and Research Center further processed these to build a multidirectional hillshade for the area covered by the DEM. The toolbox used was modified slightly to run on ArcGIS v10.3.1, and originally obtained from Relief Shading repository on GitHub (https://github.com/fveronesi/Relief_Shading), that was created and posted by Dr. Fabio Veronesi and Prof. Dr. Lorenz Hurni from Institute of Cartography and Geoinformation, ETH Zurich Stefano-Franscini-Platz 5, CH-8093 Zurich.",
 "copyrightText": "USGS, Dr. Fabio Veronesi, Prof. Dr. Lorenz Hurni",
 "supportsDynamicLayers": false,
 "layers": [
  {
   "id": 0,
   "name": "Grand Canyon 10m DEM",
   "parentLayerId": -1,
   "defaultVisibility": true,
   "subLayerIds": null,
   "minScale": 3000000,
   "maxScale": 100,
   "type": "Raster Layer",
   "supportsDynamicLegends": true
  },
  {
   "id": 1,
   "name": "Grand Canyon Hillshade",
   "parentLayerId": -1,
   "defaultVisibility": true,
   "subLayerIds": null,
   "minScale": 3000000,
   "maxScale": 100,
   "type": "Raster Layer",
   "supportsDynamicLegends": true
  }
 ],
 "tables": [],
 "spatialReference": {
  "wkid": 102988,
  "latestWkid": 6404,
  "vcsWkid": 115755,
  "latestVcsWkid": 115755,
  "xyTolerance": 0.001,
  "zTolerance": 2.0E-4,
  "mTolerance": 2.0E-4,
  "falseX": -5409200,
  "falseY": -13431700,
  "xyUnits": 4.503104285899046E8,
  "falseZ": -100000,
  "zUnits": 10000,
  "falseM": -100000,
  "mUnits": 10000
 },
 "singleFusedMapCache": true,
 "tileInfo": {
  "rows": 512,
  "cols": 512,
  "dpi": 96,
  "format": "MIXED",
  "compressionQuality": 75,
  "origin": {
   "x": -56672,
   "y": 715320
  },
  "spatialReference": {
   "wkid": 102988,
   "latestWkid": 6404,
   "vcsWkid": 115755,
   "latestVcsWkid": 115755,
   "xyTolerance": 0.001,
   "zTolerance": 2.0E-4,
   "mTolerance": 2.0E-4,
   "falseX": -5409200,
   "falseY": -13431700,
   "xyUnits": 4.503104285899046E8,
   "falseZ": -100000,
   "zUnits": 10000,
   "falseM": -100000,
   "mUnits": 10000
  },
  "lods": [
   {
    "level": 0,
    "resolution": 529.1677250021168,
    "scale": 2000000
   },
   {
    "level": 1,
    "resolution": 264.5838625010584,
    "scale": 1000000
   },
   {
    "level": 2,
    "resolution": 132.2919312505292,
    "scale": 500000
   },
   {
    "level": 3,
    "resolution": 66.1459656252646,
    "scale": 250000
   },
   {
    "level": 4,
    "resolution": 33.0729828126323,
    "scale": 125000
   },
   {
    "level": 5,
    "resolution": 16.53649140631615,
    "scale": 62500
   },
   {
    "level": 6,
    "resolution": 8.268245703158074,
    "scale": 31250
   },
   {
    "level": 7,
    "resolution": 4.134122851579037,
    "scale": 15625
   },
   {
    "level": 8,
    "resolution": 2.0670614257895186,
    "scale": 7812.5
   }
  ]
 },
 "storageInfo": {
  "storageFormat": "esriMapCacheStorageModeCompactV2",
  "packetSize": 128
 },
 "initialExtent": {
  "xmin": -55866.245640542445,
  "ymin": 456737.16928250086,
  "xmax": 310708.4826217798,
  "ymax": 715117.7200039274,
  "spatialReference": {
   "wkid": 102988,
   "latestWkid": 6404,
   "vcsWkid": 115755,
   "latestVcsWkid": 115755,
   "xyTolerance": 0.001,
   "zTolerance": 2.0E-4,
   "mTolerance": 2.0E-4,
   "falseX": -5409200,
   "falseY": -13431700,
   "xyUnits": 4.503104285899046E8,
   "falseZ": -100000,
   "zUnits": 10000,
   "falseM": -100000,
   "mUnits": 10000
  }
 },
 "fullExtent": {
  "xmin": -64816.38776570436,
  "ymin": 456549.3813316291,
  "xmax": 315564.0840984677,
  "ymax": 722159.2327424379,
  "spatialReference": {
   "wkid": 102988,
   "latestWkid": 6404,
   "vcsWkid": 115755,
   "latestVcsWkid": 115755,
   "xyTolerance": 0.001,
   "zTolerance": 2.0E-4,
   "mTolerance": 2.0E-4,
   "falseX": -5409200,
   "falseY": -13431700,
   "xyUnits": 4.503104285899046E8,
   "falseZ": -100000,
   "zUnits": 10000,
   "falseM": -100000,
   "mUnits": 10000
  }
 },
 "datesInUnknownTimezone": false,
 "minScale": 2000000,
 "maxScale": 7812.5,
 "minLOD": 0,
 "maxLOD": 8,
 "units": "esriMeters",
 "supportedImageFormatTypes": "PNG32,PNG24,PNG,JPG,DIB,TIFF,EMF,PS,PDF,GIF,SVG,SVGZ,BMP",
 "documentInfo": {
  "Title": "gcmrc-publish-topography-services.aprx",
  "Author": "",
  "Comments": "These data were obtained from the U.S. Geological Survey's National Elevation Dataset, 1/3 Arc second resolution obtained in 2013. The Grand Canyon Monitoring and Research Center further processed these to build a multidirectional hillshade for the area covered by the DEM. The toolbox used was modified slightly to run on ArcGIS v10.3.1, and originally obtained from Relief Shading repository on GitHub (https://github.com/fveronesi/Relief_Shading), that was created and posted by Dr. Fabio Veronesi and Prof. Dr. Lorenz Hurni from Institute of Cartography and Geoinformation, ETH Zurich Stefano-Franscini-Platz 5, CH-8093 Zurich.",
  "Subject": "This base map service is provided by the U.S. Geological Survey's Grand Canyon Monitoring and Research Center and designed to be used for online maps of the Grand Canyon region with particular focus on the areas of Glen, Marble and Grand Canyons.",
  "Category": "",
  "Version": "2.9.0",
  "AntialiasingMode": "Fast",
  "TextAntialiasingMode": "Force",
  "Keywords": "Arizona,Colorado River,Digital Elevation Model,Hillshade,Grand Canyon,Grand Canyon National Park,Marble Canyon,Topography,USGS"
 },
 "supportsQueryDomains": true,
 "capabilities": "Query,Map,Data",
 "supportedQueryFormats": "JSON, geoJSON, PBF",
 "exportTilesAllowed": false,
 "referenceScale": 0.0,
 "datumTransformations": [
  {
   "geoTransforms": [
    {
     "wkid": 108190,
     "latestWkid": 108190,
     "transformForward": false,
     "name": "WGS_1984_(ITRF00)_To_NAD_1983"
    },
    {
     "wkid": 108363,
     "latestWkid": 108363,
     "transformForward": true,
     "name": "WGS_1984_(ITRF08)_To_NAD_1983_2011"
    }
   ]
  },
  {
   "geoTransforms": [
    {
     "wkid": 108363,
     "latestWkid": 108363,
     "transformForward": false,
     "name": "WGS_1984_(ITRF08)_To_NAD_1983_2011"
    },
    {
     "wkid": 108190,
     "latestWkid": 108190,
     "transformForward": true,
     "name": "WGS_1984_(ITRF00)_To_NAD_1983"
    }
   ]
  },
  {
   "geoTransforms": [
    {
     "wkid": 108363,
     "latestWkid": 108363,
     "transformForward": true,
     "name": "WGS_1984_(ITRF08)_To_NAD_1983_2011"
    }
   ]
  },
  {
   "geoTransforms": [
    {
     "wkid": 108363,
     "latestWkid": 108363,
     "transformForward": false,
     "name": "WGS_1984_(ITRF08)_To_NAD_1983_2011"
    }
   ]
  }
 ],
 "supportsDatumTransformation": true,
 "heightModelInfo": {
  "heightModel": "ellipsoidal",
  "vertCRS": "NAD_1983_2011",
  "heightUnit": "meter"
 },
 "supportsVCSProjection": true,
 "archivingInfo": {
  "supportsHistoricMoment": false
 },
 "supportsClipping": true,
 "supportsSpatialFilter": true,
 "supportsTimeRelation": true,
 "supportsQueryDataElements": true,
 "mapUnits": {
  "uwkid": 9001
 },
 "maxSelectionCount": 2000,
 "maxRecordCount": 2000,
 "maxImageHeight": 4096,
 "maxImageWidth": 4096,
 "supportedExtensions": "WMSServer"
}
