<?xml version="1.0" encoding="UTF-8" standalone="no"?>
<metadata xml:lang="en">
  <Esri>
    <CreaDate>20170828</CreaDate>
    <CreaTime>14532000</CreaTime>
    <ArcGISFormat>1.0</ArcGISFormat>
    <ArcGISstyle>FGDC CSDGM Metadata</ArcGISstyle>
    <SyncOnce>FALSE</SyncOnce>
    <DataProperties>
      <itemProps>
        <itemName Sync="FALSE">GC_BASE_DEM_10m_Wide</itemName>
        <imsContentType Sync="TRUE">002</imsContentType>
        <nativeExtBox>
          <westBL Sync="TRUE">-64816.386446</westBL>
          <eastBL Sync="TRUE">315564.085418</eastBL>
          <southBL Sync="TRUE">455436.391217</southBL>
          <northBL Sync="TRUE">722159.238454</northBL>
          <exTypeCode Sync="TRUE">1</exTypeCode>
        </nativeExtBox>
      </itemProps>
      <coordRef>
        <type Sync="TRUE">Projected</type>
        <geogcsn Sync="TRUE">GCS_North_American_1983</geogcsn>
        <csUnits Sync="TRUE">Linear Unit: Meter (1.000000)</csUnits>
        <projcsn Sync="TRUE">NAD_1983_StatePlane_Arizona_Central_FIPS_0202</projcsn>
        <peXml Sync="TRUE">&lt;ProjectedCoordinateSystem xsi:type='typens:ProjectedCoordinateSystem' xmlns:xsi='http://www.w3.org/2001/XMLSchema-instance' xmlns:xs='http://www.w3.org/2001/XMLSchema' xmlns:typens='http://www.esri.com/schemas/ArcGIS/10.8'&gt;&lt;WKT&gt;PROJCS[&amp;quot;NAD_1983_StatePlane_Arizona_Central_FIPS_0202&amp;quot;,GEOGCS[&amp;quot;GCS_North_American_1983&amp;quot;,DATUM[&amp;quot;D_North_American_1983&amp;quot;,SPHEROID[&amp;quot;GRS_1980&amp;quot;,6378137.0,298.257222101]],PRIMEM[&amp;quot;Greenwich&amp;quot;,0.0],UNIT[&amp;quot;Degree&amp;quot;,0.0174532925199433]],PROJECTION[&amp;quot;Transverse_Mercator&amp;quot;],PARAMETER[&amp;quot;False_Easting&amp;quot;,213360.0],PARAMETER[&amp;quot;False_Northing&amp;quot;,0.0],PARAMETER[&amp;quot;Central_Meridian&amp;quot;,-111.9166666666667],PARAMETER[&amp;quot;Scale_Factor&amp;quot;,0.9999],PARAMETER[&amp;quot;Latitude_Of_Origin&amp;quot;,31.0],UNIT[&amp;quot;Meter&amp;quot;,1.0],AUTHORITY[&amp;quot;EPSG&amp;quot;,26949]]&lt;/WKT&gt;&lt;XOrigin&gt;-5409200&lt;/XOrigin&gt;&lt;YOrigin&gt;-13431700&lt;/YOrigin&gt;&lt;XYScale&gt;450310428.58990461&lt;/XYScale&gt;&lt;ZOrigin&gt;-100000&lt;/ZOrigin&gt;&lt;ZScale&gt;10000&lt;/ZScale&gt;&lt;MOrigin&gt;-100000&lt;/MOrigin&gt;&lt;MScale&gt;10000&lt;/MScale&gt;&lt;XYTolerance&gt;0.001&lt;/XYTolerance&gt;&lt;ZTolerance&gt;0.00020000000000000001&lt;/ZTolerance&gt;&lt;MTolerance&gt;0.00020000000000000001&lt;/MTolerance&gt;&lt;HighPrecision&gt;true&lt;/HighPrecision&gt;&lt;WKID&gt;26949&lt;/WKID&gt;&lt;LatestWKID&gt;26949&lt;/LatestWKID&gt;&lt;/ProjectedCoordinateSystem&gt;</peXml>
      </coordRef>
    </DataProperties>
    <SyncDate>20210824</SyncDate>
    <SyncTime>12391500</SyncTime>
    <ModDate>20210824</ModDate>
    <ModTime>12391500</ModTime>
  </Esri>
  <dataIdInfo>
    <envirDesc Sync="TRUE"> Version 6.2 (Build 9200) ; Esri ArcGIS 10.8.1.14362</envirDesc>
    <dataLang>
      <languageCode Sync="TRUE" value="eng">
</languageCode>
      <countryCode Sync="TRUE" value="USA">
</countryCode>
    </dataLang>
    <idCitation>
      <resTitle Sync="FALSE">topography.sde.GC_BASE_DEM_10m_Wide</resTitle>
      <presForm>
        <PresFormCd Sync="TRUE" value="011">
</PresFormCd>
      </presForm>
    </idCitation>
    <spatRpType>
      <SpatRepTypCd Sync="TRUE" value="002">
</SpatRepTypCd>
    </spatRpType>
    <dataExt>
      <geoEle>
        <GeoBndBox esriExtentType="search">
          <exTypeCode Sync="TRUE">1</exTypeCode>
          <westBL Sync="TRUE">-115.061153</westBL>
          <eastBL Sync="TRUE">-110.760669</eastBL>
          <northBL Sync="TRUE">37.510845</northBL>
          <southBL Sync="TRUE">35.068569</southBL>
        </GeoBndBox>
      </geoEle>
    </dataExt>
    <idAbs>This image service was published from a 10-meter DEM of the Grand Canyon region.  The 10-meter DEM data were downloaded from U.S. Geological Survey's The National Map website, http://nationalmap.gov/, in tiled sections and mosaicked by GCMRC GIS staff into a regional DEM data set.</idAbs>
    <searchKeys>
      <keyword>Grand Canyon</keyword>
      <keyword>Colorado River</keyword>
      <keyword>Topography</keyword>
      <keyword>Digital Elevation Model</keyword>
      <keyword>Shaded Relief</keyword>
    </searchKeys>
    <idPurp>This image service is a shaded relief map product developed from a 10-meter DEM of the Grand Canyon region.</idPurp>
    <idCredit>U.S. Geological Survey, Grand Canyon Monitoring and Research Center</idCredit>
    <resConst>
      <Consts>
        <useLimit>The data made available through this service may be subject to review and revision without further notice.  This image service is provided by Grand Canyon Monitoring and Research Center for scientific use only and as a reference related to projects in support of Glen Canyon Adaptive Management Program research and monitoring efforts.</useLimit>
      </Consts>
    </resConst>
  </dataIdInfo>
  <mdLang>
    <languageCode Sync="TRUE" value="eng">
</languageCode>
    <countryCode Sync="TRUE" value="USA">
</countryCode>
  </mdLang>
  <distInfo>
    <distFormat>
      <formatName Sync="FALSE">Raster Dataset</formatName>
    </distFormat>
  </distInfo>
  <mdHrLv>
    <ScopeCd Sync="TRUE" value="005">
</ScopeCd>
  </mdHrLv>
  <mdHrLvName Sync="TRUE">dataset</mdHrLvName>
  <refSysInfo>
    <RefSystem>
      <refSysID>
        <identCode Sync="TRUE" code="26949">
</identCode>
        <idCodeSpace Sync="TRUE">EPSG</idCodeSpace>
        <idVersion Sync="TRUE">2.1(3.0.1)</idVersion>
      </refSysID>
    </RefSystem>
  </refSysInfo>
  <spdoinfo>
    <rastinfo>
      <rasttype Sync="TRUE">Pixel</rasttype>
      <rowcount Sync="TRUE">28278</rowcount>
      <colcount Sync="TRUE">40328</colcount>
      <rastxsz Sync="TRUE">9.432168</rastxsz>
      <rastysz Sync="TRUE">9.432168</rastysz>
      <rastbpp Sync="TRUE">32</rastbpp>
      <vrtcount Sync="TRUE">1</vrtcount>
      <rastorig Sync="TRUE">Upper Left</rastorig>
      <rastcmap Sync="TRUE">FALSE</rastcmap>
      <rastcomp Sync="TRUE">LZ77</rastcomp>
      <rastband Sync="TRUE">1</rastband>
      <rastdtyp Sync="TRUE">pixel codes</rastdtyp>
      <rastifor Sync="TRUE">SDR</rastifor>
      <rastplyr Sync="TRUE">TRUE</rastplyr>
    </rastinfo>
  </spdoinfo>
  <spref>
    <horizsys>
      <planar>
        <planci>
          <plance Sync="TRUE">row and column</plance>
          <coordrep>
            <absres Sync="TRUE">9.432168</absres>
            <ordres Sync="TRUE">9.432168</ordres>
          </coordrep>
        </planci>
      </planar>
    </horizsys>
  </spref>
  <mdDateSt Sync="TRUE">20210824</mdDateSt>
  </metadata>
