{
 "currentVersion": 11.5,
 "serviceDescription": "This image service was published from a 10-meter DEM of the Grand Canyon region. The 10-meter DEM data were downloaded from U.S. Geological Survey's The National Map website, http://nationalmap.gov/, in tiled sections and mosaicked by GCMRC GIS staff into a regional DEM data set.",
 "name": "Topography/GrandCanyonTopography10meter",
 "description": "This image service was published from a 10-meter DEM of the Grand Canyon region. The 10-meter DEM data were downloaded from U.S. Geological Survey's The National Map website, http://nationalmap.gov/, in tiled sections and mosaicked by GCMRC GIS staff into a regional DEM data set.",
 "extent": {
  "xmin": -64816.38644647942,
  "ymin": 455436.39121652406,
  "xmax": 315564.08541769267,
  "ymax": 722159.238453557,
  "spatialReference": {
   "wkid": 26949,
   "latestWkid": 26949,
   "vcsWkid": 115702,
   "latestVcsWkid": 115702
  }
 },
 "initialExtent": {
  "xmin": -64816.38644647942,
  "ymin": 455436.39121652406,
  "xmax": 315564.08541769267,
  "ymax": 722159.238453557,
  "spatialReference": {
   "wkid": 26949,
   "latestWkid": 26949,
   "vcsWkid": 115702,
   "latestVcsWkid": 115702
  }
 },
 "fullExtent": {
  "xmin": -64816.38644647942,
  "ymin": 455436.39121652406,
  "xmax": 315564.08541769267,
  "ymax": 722159.238453557,
  "spatialReference": {
   "wkid": 26949,
   "latestWkid": 26949,
   "vcsWkid": 115702,
   "latestVcsWkid": 115702
  }
 },
 "sortableFields": "",
 "heightModelInfo": {
  "heightModel": "ellipsoidal",
  "vertCRS": "NAD_1983",
  "heightUnit": "meter"
 },
 "bandCount": 1,
 "pixelType": "F32",
 "minValues": [
  149.67552185058594
 ],
 "maxValues": [
  3847.52978515625
 ],
 "meanValues": [
  1476.0407831760617
 ],
 "stdvValues": [
  480.1573064641905
 ],
 "serviceProperties": "Center<\/MosaicMethod>First<\/MosaicOperator>true<\/SortAscending><\/LockImageID><\/TileOrderField>0<\/TileOrderBase>0.000000<\/AvgImageSpacingX>0.000000<\/AvgImageSpacingY>0.0<\/ViewPointX>0.0<\/ViewPointY>0.0<\/ViewPointDefShiftX>0.0<\/ViewPointDefShiftY>None<\/CompressionMethod>75<\/CompressionQuality>0.010000<\/CompressionTolerance>Bilinear<\/SamplingMethod><\/ImageServiceProperties><\/ImageServer>",
 "allowedFields": "",
 "hasMultidimensions": false,
 "pixelSizeX": 9.432168018849735,
 "pixelSizeY": 9.43216801884974,
 "meanPixelSize": 9.432168018849737,
 "datasetFormat": "SDR",
 "uncompressedSize": 4561580736,
 "blockWidth": 128,
 "blockHeight": 128,
 "compressionType": "LZ77",
 "bandNames": [
  "Band_1"
 ],
 "allowCopy": true,
 "allowAnalysis": true,
 "itemAccess": false,
 "inspectionCapabilities": "",
 "minPixelSize": 0,
 "maxPixelSize": 0,
 "copyrightText": "U.S. Geological Survey, Grand Canyon Monitoring and Research Center",
 "serviceDataType": "esriImageServiceDataTypeGeneric",
 "serviceSourceType": "esriImageServiceSourceTypeDataset",
 "objectIdField": "",
 "fields": [],
 "capabilities": "Mensuration,Image,Metadata",
 "defaultMosaicMethod": "Center",
 "allowedMosaicMethods": "",
 "sortField": "",
 "sortValue": null,
 "sortAscending": true,
 "mosaicOperator": "First",
 "defaultCompressionQuality": 75,
 "defaultResamplingMethod": "Bilinear",
 "maxImageHeight": 4100,
 "maxImageWidth": 15000,
 "allowRasterFunction": true,
 "rasterFunctionInfos": [
  {
   "name": "None",
   "description": "",
   "help": ""
  }
 ],
 "rasterTypeInfos": [
  {
   "name": "Raster Dataset",
   "description": "Supports all ArcGIS Raster Datasets",
   "help": ""
  }
 ],
 "mensurationCapabilities": "Basic",
 "hasHistograms": true,
 "hasColormap": false,
 "hasRasterAttributeTable": false,
 "minScale": 0,
 "maxScale": 0,
 "exportTilesAllowed": false,
 "supportsStatistics": false,
 "supportsAdvancedQueries": false,
 "editFieldsInfo": null,
 "ownershipBasedAccessControlForRasters": null,
 "allowComputeTiePoints": false,
 "useStandardizedQueries": true,
 "advancedQueryCapabilities": {
  "useStandardizedQueries": true,
  "supportsStatistics": false,
  "supportsOrderBy": false,
  "supportsDistinct": false,
  "supportsPagination": false
 },
 "spatialReference": {
  "wkid": 26949,
  "latestWkid": 26949,
  "vcsWkid": 115702,
  "latestVcsWkid": 115702
 },
 "resampling": false
}
