{
 "currentVersion": 11.5,
 "serviceDescription": "Topography/grandcanyon_10m_dem_tiles_service",
 "name": "Topography/grandcanyon_10m_dem_tiles_service",
 "description": "",
 "extent": {
  "xmin": -64816.2220176107,
  "ymin": 456548.7142282618,
  "xmax": 315564.4215561765,
  "ymax": 722159.9062579375,
  "spatialReference": {
   "wkid": 102988,
   "latestWkid": 6404,
   "vcsWkid": 115755,
   "latestVcsWkid": 115755
  }
 },
 "initialExtent": {
  "xmin": -64816.2220176107,
  "ymin": 456548.7142282618,
  "xmax": 315564.4215561765,
  "ymax": 722159.9062579375,
  "spatialReference": {
   "wkid": 102988,
   "latestWkid": 6404,
   "vcsWkid": 115755,
   "latestVcsWkid": 115755
  }
 },
 "fullExtent": {
  "xmin": -64816.2220176107,
  "ymin": 456548.7142282618,
  "xmax": 315564.4215561765,
  "ymax": 722159.9062579375,
  "spatialReference": {
   "wkid": 102988,
   "latestWkid": 6404,
   "vcsWkid": 115755,
   "latestVcsWkid": 115755
  }
 },
 "sortableFields": "",
 "heightModelInfo": {
  "heightModel": "ellipsoidal",
  "vertCRS": "NAD_1983_2011",
  "heightUnit": "meter"
 },
 "bandCount": 1,
 "pixelType": "F32",
 "minValues": [
  149.68182373046875
 ],
 "maxValues": [
  3847.5361328125
 ],
 "meanValues": [
  1476.0701415728024
 ],
 "stdvValues": [
  480.1661064651387
 ],
 "serviceProperties": "Center<\/MosaicMethod>First<\/MosaicOperator>true<\/SortAscending><\/LockImageID><\/TileOrderField>0<\/TileOrderBase>0.000000<\/AvgImageSpacingX>0.000000<\/AvgImageSpacingY>0.0<\/ViewPointX>0.0<\/ViewPointY>0.0<\/ViewPointDefShiftX>0.0<\/ViewPointDefShiftY>None<\/CompressionMethod>75<\/CompressionQuality>0.010000<\/CompressionTolerance>Bilinear<\/SamplingMethod><\/ImageServiceProperties><\/ImageServer>",
 "allowedFields": "",
 "hasMultidimensions": false,
 "pixelSizeX": 2.0670614257895186,
 "pixelSizeY": 2.0670614257895186,
 "meanPixelSize": 2.0670614257895186,
 "datasetFormat": "Cache/LERC",
 "uncompressedSize": 94584071760,
 "blockWidth": 512,
 "blockHeight": 512,
 "compressionType": "LERC",
 "bandNames": [
  "Band_1"
 ],
 "allowCopy": true,
 "allowAnalysis": true,
 "itemAccess": false,
 "inspectionCapabilities": "",
 "minPixelSize": 0,
 "maxPixelSize": 0,
 "copyrightText": "",
 "serviceDataType": "esriImageServiceDataTypeGeneric",
 "serviceSourceType": "esriImageServiceSourceTypeDataset",
 "objectIdField": "",
 "fields": [],
 "capabilities": "Image,Metadata,Mensuration",
 "defaultMosaicMethod": "Center",
 "allowedMosaicMethods": "",
 "sortField": "",
 "sortValue": null,
 "sortAscending": true,
 "mosaicOperator": "First",
 "defaultCompressionQuality": 75,
 "defaultResamplingMethod": "Bilinear",
 "maxImageHeight": 4100,
 "maxImageWidth": 15000,
 "allowRasterFunction": true,
 "rasterFunctionInfos": [
  {
   "name": "None",
   "description": "",
   "help": ""
  }
 ],
 "rasterTypeInfos": [
  {
   "name": "Raster Dataset",
   "description": "Supports all ArcGIS Raster Datasets",
   "help": ""
  }
 ],
 "mensurationCapabilities": "Basic",
 "hasHistograms": false,
 "hasColormap": false,
 "hasRasterAttributeTable": false,
 "minScale": 0,
 "maxScale": 0,
 "exportTilesAllowed": false,
 "supportsStatistics": false,
 "supportsAdvancedQueries": false,
 "editFieldsInfo": null,
 "ownershipBasedAccessControlForRasters": null,
 "allowComputeTiePoints": false,
 "useStandardizedQueries": true,
 "advancedQueryCapabilities": {
  "useStandardizedQueries": true,
  "supportsStatistics": false,
  "supportsOrderBy": false,
  "supportsDistinct": false,
  "supportsPagination": false
 },
 "spatialReference": {
  "wkid": 102988,
  "latestWkid": 6404,
  "vcsWkid": 115755,
  "latestVcsWkid": 115755
 }
}
