View In:
ArcGIS JavaScript
ArcGIS Online Map Viewer
ArcGIS Earth
ArcMap
View Footprint In:
ArcGIS Online Map Viewer
Service Description: The Grand Canyon Monitoring and Research Center (GCMRC) of the U.S. Geological Survey’s (USGS) Southwest Biological Science Center (SBSC) acquired airborne multispectral high-resolution data for the Colorado River in Grand Canyon in Arizona, USA. The imagery was acquired between May 25 and June 1, 2013 at altitudes of 8,000 ft to 11,000 using Leica ADS80/82 digital push-broom multi-spectral sensor. The imagery data consist of four bands (blue, green, red and near infrared) with a ground resolution of 20 centimeters (cm).
Similarly, the image service contains 4-band data and may require the user to select the proper band combinations in order to view the data properly. Suggested band combinations include True-Color (or RGB) by assigning image bands 3, 2, 1 to the Red, Green, Blue color guns, respectively. Color infrared (CIR) can be viewed by change the band combination to 4, 3, 2 assigned to the Red, Green, Blue color guns, again respectively.
Name: Imagery/Imagery_ColoradoRiver_2013
Description: The Grand Canyon Monitoring and Research Center (GCMRC) of the U.S. Geological Survey’s (USGS) Southwest Biological Science Center (SBSC) acquired airborne multispectral high-resolution data for the Colorado River in Grand Canyon in Arizona, USA. The imagery was acquired between May 25 and June 1, 2013 at altitudes of 8,000 ft to 11,000 using Leica ADS80/82 digital push-broom multi-spectral sensor. The imagery data consist of four bands (blue, green, red and near infrared) with a ground resolution of 20 centimeters (cm).
Similarly, the image service contains 4-band data and may require the user to select the proper band combinations in order to view the data properly. Suggested band combinations include True-Color (or RGB) by assigning image bands 3, 2, 1 to the Red, Green, Blue color guns, respectively. Color infrared (CIR) can be viewed by change the band combination to 4, 3, 2 assigned to the Red, Green, Blue color guns, again respectively.
Single Fused Map Cache: true
Tile Info:
- Height: 256
- Width: 256
- DPI: 96
-
Levels of Detail: 12
- Format: JPEG
- Compression Quality: 75.0
- LERC Error: NaN
- Origin: X: -5409200.0
Y: 6570500.0
- Spatial Reference: 26949
(26949)
LatestVCSWkid(0)
Storage Info:
- Storage Format: esriMapCacheStorageModeCompactV2
- Packet Size: 128
Extent:
XMin: 25678.660124193877
YMin: 527666.4901907686
XMax: 252527.5431281589
YMax: 661680.8905176017
Spatial Reference: 26949
(26949)
LatestVCSWkid(0)
Initial Extent:
XMin: 25678.660124193877
YMin: 527666.4901907686
XMax: 252527.5431281589
YMax: 661680.8905176017
Spatial Reference: 26949
(26949)
LatestVCSWkid(0)
Full Extent:
XMin: 25678.660124193877
YMin: 527666.4901907686
XMax: 252527.5431281589
YMax: 661680.8905176017
Spatial Reference: 26949
(26949)
LatestVCSWkid(0)
Pixel Size X: 0.20002000033855438
Pixel Size Y: 0.20002000033855438
Band Count: 4
Pixel Type: U8
RasterFunction Infos: {"rasterFunctionInfos": [{
"name": "None",
"description": "",
"help": ""
}]}
Mensuration Capabilities: Basic
Has Histograms: true
Has Colormap: false
Has Multi Dimensions : false
Rendering Rule:
Min Scale: 1000000
Max Scale: 500
Min LOD: 0
Max LOD: 11
Copyright Text: USGS, SBSC-GCMRC
Service Data Type: esriImageServiceDataTypeGeneric
Min Values: 1, 1, 1, 1
Max Values: 255, 255, 255, 255
Mean Values: 109.62063486851461, 109.82330556112062, 110.01249298831904, 113.11966564162348
Standard Deviation Values: 63.5740181011467, 63.37503609673926, 64.82605527385408, 66.52102610788485
Object ID Field:
Fields:
None
Default Mosaic Method: Center
Allowed Mosaic Methods:
SortField:
SortValue: null
Mosaic Operator: First
Default Compression Quality: 75
Default Resampling Method: Bilinear
Max Record Count: null
Max Image Height: 16400
Max Image Width: 60000
Max Download Image Count: null
Max Mosaic Image Count: null
Allow Raster Function: true
Allow Copy: true
Allow Analysis: true
Allow Compute TiePoints: false
Supports Statistics: false
Supports Advanced Queries: false
Use StandardizedQueries: true
Raster Type Infos:
Name: Raster Dataset
Description: Supports all ArcGIS Raster Datasets
Help:
Has Raster Attribute Table: false
Edit Fields Info: null
Ownership Based AccessControl For Rasters: null
Child Resources:
Info
Histograms
Statistics
Key Properties
Legend
Raster Function Infos
Supported Operations:
Export Image
Identify
Measure
Compute Histograms
Compute Statistics Histograms
Get Samples
Compute Class Statistics
Query Boundary
Compute Pixel Location
Compute Angles
Validate
Project
EstimateExportTilesSize
ExportTiles