View In:
ArcGIS JavaScript
ArcGIS Online Map Viewer
ArcGIS Earth
ArcMap
View Footprint In:
ArcGIS Online Map Viewer
Service Description: In May 2021, the Grand Canyon Monitoring and Research Center (GCMRC) of the U.S. Geological Survey (USGS), Southwest Biological Science Center (SBSC) acquired airborne multi-spectral high resolution data for the Colorado River in Grand Canyon in Arizona, USA. The imagery data consist of four bands (blue, green, red and near infrared) with a ground resolution of 20 centimeters (cm). These data are available to the public as 16-bit geotiff files. They are projected in the State Plane (SP) map projection using the central Arizona zone (202) and the North American Datum of 1983 (NAD83).
Name: Imagery/Imagery_ColoradoRiver_2021
Description: In May 2021, the Grand Canyon Monitoring and Research Center (GCMRC) of the U.S. Geological Survey (USGS), Southwest Biological Science Center (SBSC) acquired airborne multi-spectral high resolution data for the Colorado River in Grand Canyon in Arizona, USA. The imagery data consist of four bands (blue, green, red and near infrared) with a ground resolution of 20 centimeters (cm). These data are available to the public as 16-bit geotiff files. They are projected in the State Plane (SP) map projection using the central Arizona zone (202) and the North American Datum of 1983 (NAD83).
Single Fused Map Cache: true
Tile Info:
- Height: 256
- Width: 256
- DPI: 96
-
Levels of Detail: 11
- Format: MIXED
- Compression Quality: 75.0
- LERC Error: NaN
- Origin: X: -5409200.0
Y: 6570500.0
- Spatial Reference: 102988
(6404)
LatestVCSWkid(0)
Storage Info:
- Storage Format: esriMapCacheStorageModeCompactV2
- Packet Size: 128
Extent:
XMin: 26210.433447307907
YMin: 527666.9010509308
XMax: 253506.03365899343
YMax: 661691.1011757506
Spatial Reference: 102988
(6404)
LatestVCSWkid(0)
Initial Extent:
XMin: 26210.433447307907
YMin: 527666.9010509308
XMax: 253506.03365899343
YMax: 661691.1011757506
Spatial Reference: 102988
(6404)
LatestVCSWkid(0)
Full Extent:
XMin: 26210.433447307907
YMin: 527666.9010509308
XMax: 253506.03365899343
YMax: 661691.1011757506
Spatial Reference: 102988
(6404)
LatestVCSWkid(0)
Pixel Size X: 0.20000000018626451
Pixel Size Y: 0.20000000018626451
Band Count: 4
Pixel Type: U16
RasterFunction Infos: {"rasterFunctionInfos": [{
"name": "None",
"description": "",
"help": ""
}]}
Mensuration Capabilities: Basic
Has Histograms: true
Has Colormap: false
Has Multi Dimensions : false
Rendering Rule:
Min Scale: 0
Max Scale: 0
Min LOD: 0
Max LOD: 9
Copyright Text: We would like to acknowledge Fugro for acquiring the data under contract.
Service Data Type: esriImageServiceDataTypeGeneric
Min Values: 1, 1, 1, 1
Max Values: 65535, 65535, 65535, 65535
Mean Values: 33505.328924899, 31315.710268457657, 28976.481599143957, 31569.70474470706
Standard Deviation Values: 15461.843092777952, 14336.036891412987, 13622.371451672121, 15673.963630741779
Object ID Field:
Fields:
None
Default Mosaic Method: Center
Allowed Mosaic Methods:
SortField:
SortValue: null
Mosaic Operator: First
Default Compression Quality: 75
Default Resampling Method: Bilinear
Max Record Count: null
Max Image Height: 4100
Max Image Width: 15000
Max Download Image Count: null
Max Mosaic Image Count: null
Allow Raster Function: true
Allow Copy: true
Allow Analysis: true
Allow Compute TiePoints: false
Supports Statistics: false
Supports Advanced Queries: false
Use StandardizedQueries: true
Raster Type Infos:
Name: Raster Dataset
Description: Supports all ArcGIS Raster Datasets
Help:
Has Raster Attribute Table: false
Edit Fields Info: null
Ownership Based AccessControl For Rasters: null
Child Resources:
Info
Histograms
Statistics
Key Properties
Legend
Raster Function Infos
Supported Operations:
Export Image
Identify
Measure
Compute Histograms
Compute Statistics Histograms
Get Samples
Compute Class Statistics
Query Boundary
Compute Pixel Location
Compute Angles
Validate
Project