View In:
ArcGIS JavaScript
ArcGIS Online Map Viewer
ArcGIS Earth
Service Description: Physical/ChannelMap_00_GlenCanyon_2014_1m_HSD
Name: Physical/ChannelMap_00_GlenCanyon_2014_1m_HSD
Description:
Single Fused Map Cache: false
Extent:
XMin: 242321.0
YMin: 647631.0
XMax: 252511.0
YMax: 658607.0
Spatial Reference: 102988
(6404)
LatestVCSWkid(0)
Initial Extent:
XMin: 242321.0
YMin: 647631.0
XMax: 252511.0
YMax: 658607.0
Spatial Reference: 102988
(6404)
LatestVCSWkid(0)
Full Extent:
XMin: 242321.0
YMin: 647631.0
XMax: 252511.0
YMax: 658607.0
Spatial Reference: 102988
(6404)
LatestVCSWkid(0)
Pixel Size X: 1.0
Pixel Size Y: 1.0
Band Count: 1
Pixel Type: U8
RasterFunction Infos: {"rasterFunctionInfos": [{
"name": "None",
"description": "",
"help": ""
}]}
Mensuration Capabilities: Basic
Inspection Capabilities:
Has Histograms: true
Has Colormap: false
Has Multi Dimensions : false
Rendering Rule:
Min Scale: 0
Max Scale: 0
Copyright Text:
Service Data Type: esriImageServiceDataTypeThematic
Min Values: 0
Max Values: 254
Mean Values: 166.1833787932686
Standard Deviation Values: 49.07100971017089
Object ID Field:
Fields:
None
Default Mosaic Method: Center
Allowed Mosaic Methods:
SortField:
SortValue: null
Mosaic Operator: First
Default Compression Quality: 75
Default Resampling Method: Bilinear
Max Record Count: null
Max Image Height: 4100
Max Image Width: 15000
Max Download Image Count: null
Max Mosaic Image Count: null
Allow Raster Function: true
Allow Copy: true
Allow Analysis: true
Allow Compute TiePoints: false
Supports Statistics: false
Supports Advanced Queries: false
Use StandardizedQueries: true
Raster Type Infos:
Name: Raster Dataset
Description: Supports all ArcGIS Raster Datasets
Help:
Has Raster Attribute Table: false
Edit Fields Info: null
Ownership Based AccessControl For Rasters: null
Child Resources:
Info
Histograms
Statistics
Key Properties
Legend
Raster Function Infos
Supported Operations:
Export Image
Identify
Measure
Compute Histograms
Compute Statistics Histograms
Get Samples
Compute Class Statistics
Query Boundary
Compute Pixel Location
Compute Angles
Validate
Project