View In:
ArcGIS JavaScript
ArcGIS Online Map Viewer
ArcGIS Earth
Service Description: LakePowell/LakePowell_TopoBathyDEM_1m_2021
Name: LakePowell/LakePowell_TopoBathyDEM_1m_2021
Description:
Single Fused Map Cache: false
Extent:
XMin: 445520.7322771633
YMin: 4076615.942936342
XMax: 575694.7322771633
YMax: 4206542.942936342
Spatial Reference: 102059
(6341)
LatestVCSWkid(0)
Initial Extent:
XMin: 445520.7322771633
YMin: 4076615.942936342
XMax: 575694.7322771633
YMax: 4206542.942936342
Spatial Reference: 102059
(6341)
LatestVCSWkid(0)
Full Extent:
XMin: 445520.7322771633
YMin: 4076615.942936342
XMax: 575694.7322771633
YMax: 4206542.942936342
Spatial Reference: 102059
(6341)
LatestVCSWkid(0)
Pixel Size X: 1.0
Pixel Size Y: 1.0
Band Count: 1
Pixel Type: F32
RasterFunction Infos: {"rasterFunctionInfos": [
{
"name": "LakePowell-TopoBathyDEM-2021-RFT",
"description": "This raster function template is designed for rendering the Lake Powell Topography - Bathymetry (TopoBathy) Digital Elevation Model (DEM) using a custom color ramp and data stretch assignment.",
"help": ""
},
{
"name": "None",
"description": "",
"help": ""
}
]}
Mensuration Capabilities: Basic
Inspection Capabilities:
Has Histograms: true
Has Colormap: false
Has Multi Dimensions : false
Rendering Rule:
Min Scale: 0
Max Scale: 0
Copyright Text:
Service Data Type: esriImageServiceDataTypeGeneric
Min Values: 948.3123168945312
Max Values: 1440.9447021484375
Mean Values: 1093.2703974413862
Standard Deviation Values: 44.70557624870941
Object ID Field:
Fields:
None
Default Mosaic Method: Center
Allowed Mosaic Methods:
SortField:
SortValue: null
Mosaic Operator: First
Default Compression Quality: 75
Default Resampling Method: Bilinear
Max Record Count: null
Max Image Height: 4100
Max Image Width: 15000
Max Download Image Count: null
Max Mosaic Image Count: null
Allow Raster Function: true
Allow Copy: true
Allow Analysis: true
Allow Compute TiePoints: false
Supports Statistics: false
Supports Advanced Queries: false
Use StandardizedQueries: true
Raster Type Infos:
Name: Raster Dataset
Description: Supports all ArcGIS Raster Datasets
Help:
Has Raster Attribute Table: false
Edit Fields Info: null
Ownership Based AccessControl For Rasters: null
Child Resources:
Info
Histograms
Statistics
Key Properties
Legend
Raster Function Infos
Supported Operations:
Export Image
Identify
Measure
Compute Histograms
Compute Statistics Histograms
Get Samples
Compute Class Statistics
Query Boundary
Compute Pixel Location
Compute Angles
Validate
Project