View In:
ArcGIS JavaScript
ArcGIS Online Map Viewer
ArcGIS Earth
Service Description: Bathymetric, topographic, and grain-size data were collected from May 2013 to October 2016 along a 15-mi reach of the Colorado River in Glen Canyon National Recreation Area, Arizona by the U.S. Geological Survey Grand Canyon Monitoring and Research Center. The study reach is located from river miles -15 at the base of Glen Canyon Dam to 0 at Lees Ferry. Channel bathymetry was mapped using multi-beam bathymetry collected in November 2014 and single beam bathymetry collected in February 2015, August 2015, February 2016, and June 2016. Subaerial topography was mapped using photogrammetry derived from aerial Imagery collected in May 2013 and ground-based total-stations collected in February 2015, October 2015, and October 2016. Bed-sediment grain-size data were collected in November 2014 using an underwater digital microscope system. These data were combined to produce digital elevation models, spatially variable estimates of digital elevation model uncertainty, georeferenced grain-size data, and bed-sediment distribution maps.
Name: Physical/ChannelMap_00_GlenCanyon_2014_1m_DEM
Description: Bathymetric, topographic, and grain-size data were collected from May 2013 to October 2016 along a 15-mi reach of the Colorado River in Glen Canyon National Recreation Area, Arizona by the U.S. Geological Survey Grand Canyon Monitoring and Research Center. The study reach is located from river miles -15 at the base of Glen Canyon Dam to 0 at Lees Ferry. Channel bathymetry was mapped using multi-beam bathymetry collected in November 2014 and single beam bathymetry collected in February 2015, August 2015, February 2016, and June 2016. Subaerial topography was mapped using photogrammetry derived from aerial Imagery collected in May 2013 and ground-based total-stations collected in February 2015, October 2015, and October 2016. Bed-sediment grain-size data were collected in November 2014 using an underwater digital microscope system. These data were combined to produce digital elevation models, spatially variable estimates of digital elevation model uncertainty, georeferenced grain-size data, and bed-sediment distribution maps.
Single Fused Map Cache: false
Extent:
XMin: 242321.0
YMin: 647631.0
XMax: 252511.0
YMax: 658607.0
Spatial Reference: 102988
(6404)
VCSWkid(115755)
LatestVCSWkid(115755)
Initial Extent:
XMin: 242321.0
YMin: 647631.0
XMax: 252511.0
YMax: 658607.0
Spatial Reference: 102988
(6404)
VCSWkid(115755)
LatestVCSWkid(115755)
Full Extent:
XMin: 242321.0
YMin: 647631.0
XMax: 252511.0
YMax: 658607.0
Spatial Reference: 102988
(6404)
VCSWkid(115755)
LatestVCSWkid(115755)
Pixel Size X: 1.0
Pixel Size Y: 1.0
Band Count: 1
Pixel Type: F32
RasterFunction Infos: {"rasterFunctionInfos": [{
"name": "None",
"description": "Make a Raster or Raster Dataset into a Function Raster Dataset.",
"help": ""
}]}
Mensuration Capabilities: Basic
Inspection Capabilities:
Has Histograms: true
Has Colormap: false
Has Multi Dimensions : false
Rendering Rule:
Min Scale: 0
Max Scale: 0
Resampling: false
Copyright Text: USGS GCMRC
Service Data Type: esriImageServiceDataTypeGeneric
Min Values: 902.2933959960938
Max Values: 1179.3096923828125
Mean Values: 937.4229925043707
Standard Deviation Values: 20.2219340970147
Object ID Field:
Fields:
None
Default Mosaic Method: Center
Allowed Mosaic Methods:
SortField:
SortValue: null
Mosaic Operator: First
Default Compression Quality: 75
Default Resampling Method: Bilinear
Max Record Count: null
Max Image Height: 4100
Max Image Width: 15000
Max Download Image Count: null
Max Mosaic Image Count: null
Allow Raster Function: true
Allow Copy: true
Allow Analysis: true
Allow Compute TiePoints: false
Supports Statistics: false
Supports Advanced Queries: false
Use StandardizedQueries: true
Raster Type Infos:
Name: Raster Dataset
Description: Supports all ArcGIS Raster Datasets
Help:
Has Raster Attribute Table: false
Edit Fields Info: null
Ownership Based AccessControl For Rasters: null
Child Resources:
Info
Histograms
Statistics
Key Properties
Legend
Raster Function Infos
Supported Operations:
Export Image
Identify
Measure
Compute Histograms
Compute Statistics Histograms
Get Samples
Compute Class Statistics
Query Boundary
Compute Pixel Location
Compute Angles
Validate
Project