View In:
ArcGIS JavaScript
ArcGIS Online Map Viewer
ArcGIS Earth
Service Description: This image service was published from a 10-meter DEM of the Grand Canyon region. The 10-meter DEM data were downloaded from U.S. Geological Survey's The National Map website, http://nationalmap.gov/, in tiled sections and mosaicked by GCMRC GIS staff into a regional DEM data set.
Name: Topography/GrandCanyonTopography10meter
Description: This image service was published from a 10-meter DEM of the Grand Canyon region. The 10-meter DEM data were downloaded from U.S. Geological Survey's The National Map website, http://nationalmap.gov/, in tiled sections and mosaicked by GCMRC GIS staff into a regional DEM data set.
Single Fused Map Cache: false
Extent:
XMin: -64816.38644647942
YMin: 455436.39121652406
XMax: 315564.08541769267
YMax: 722159.238453557
Spatial Reference: 26949
(26949)
VCSWkid(115702)
LatestVCSWkid(115702)
Initial Extent:
XMin: -64816.38644647942
YMin: 455436.39121652406
XMax: 315564.08541769267
YMax: 722159.238453557
Spatial Reference: 26949
(26949)
VCSWkid(115702)
LatestVCSWkid(115702)
Full Extent:
XMin: -64816.38644647942
YMin: 455436.39121652406
XMax: 315564.08541769267
YMax: 722159.238453557
Spatial Reference: 26949
(26949)
VCSWkid(115702)
LatestVCSWkid(115702)
Pixel Size X: 9.432168018849735
Pixel Size Y: 9.43216801884974
Band Count: 1
Pixel Type: F32
RasterFunction Infos: {"rasterFunctionInfos": [{
"name": "None",
"description": "",
"help": ""
}]}
Mensuration Capabilities: Basic
Inspection Capabilities:
Has Histograms: true
Has Colormap: false
Has Multi Dimensions : false
Rendering Rule:
Min Scale: 0
Max Scale: 0
Resampling: false
Copyright Text: U.S. Geological Survey, Grand Canyon Monitoring and Research Center
Service Data Type: esriImageServiceDataTypeGeneric
Min Values: 149.67552185058594
Max Values: 3847.52978515625
Mean Values: 1476.0407831760617
Standard Deviation Values: 480.1573064641905
Object ID Field:
Fields:
None
Default Mosaic Method: Center
Allowed Mosaic Methods:
SortField:
SortValue: null
Mosaic Operator: First
Default Compression Quality: 75
Default Resampling Method: Bilinear
Max Record Count: null
Max Image Height: 4100
Max Image Width: 15000
Max Download Image Count: null
Max Mosaic Image Count: null
Allow Raster Function: true
Allow Copy: true
Allow Analysis: true
Allow Compute TiePoints: false
Supports Statistics: false
Supports Advanced Queries: false
Use StandardizedQueries: true
Raster Type Infos:
Name: Raster Dataset
Description: Supports all ArcGIS Raster Datasets
Help:
Has Raster Attribute Table: false
Edit Fields Info: null
Ownership Based AccessControl For Rasters: null
Child Resources:
Info
Histograms
Statistics
Key Properties
Legend
Raster Function Infos
Supported Operations:
Export Image
Identify
Measure
Compute Histograms
Compute Statistics Histograms
Get Samples
Compute Class Statistics
Query Boundary
Compute Pixel Location
Compute Angles
Validate
Project