View In:
ArcGIS JavaScript
ArcGIS Online Map Viewer
ArcGIS Earth
Service Description: Topography/grandcanyon_10m_dem_tiles_service
Name: Topography/grandcanyon_10m_dem_tiles_service
Description:
Single Fused Map Cache: false
Extent:
XMin: -64816.2220176107
YMin: 456548.7142282618
XMax: 315564.4215561765
YMax: 722159.9062579375
Spatial Reference: 102988
(6404)
VCSWkid(115755)
LatestVCSWkid(115755)
Initial Extent:
XMin: -64816.2220176107
YMin: 456548.7142282618
XMax: 315564.4215561765
YMax: 722159.9062579375
Spatial Reference: 102988
(6404)
VCSWkid(115755)
LatestVCSWkid(115755)
Full Extent:
XMin: -64816.2220176107
YMin: 456548.7142282618
XMax: 315564.4215561765
YMax: 722159.9062579375
Spatial Reference: 102988
(6404)
VCSWkid(115755)
LatestVCSWkid(115755)
Pixel Size X: 2.0670614257895186
Pixel Size Y: 2.0670614257895186
Band Count: 1
Pixel Type: F32
RasterFunction Infos: {"rasterFunctionInfos": [{
"name": "None",
"description": "",
"help": ""
}]}
Mensuration Capabilities: Basic
Inspection Capabilities:
Has Histograms: false
Has Colormap: false
Has Multi Dimensions : false
Rendering Rule:
Min Scale: 0
Max Scale: 0
Copyright Text:
Service Data Type: esriImageServiceDataTypeGeneric
Min Values: 149.68182373046875
Max Values: 3847.5361328125
Mean Values: 1476.0701415728024
Standard Deviation Values: 480.1661064651387
Object ID Field:
Fields:
None
Default Mosaic Method: Center
Allowed Mosaic Methods:
SortField:
SortValue: null
Mosaic Operator: First
Default Compression Quality: 75
Default Resampling Method: Bilinear
Max Record Count: null
Max Image Height: 4100
Max Image Width: 15000
Max Download Image Count: null
Max Mosaic Image Count: null
Allow Raster Function: true
Allow Copy: true
Allow Analysis: true
Allow Compute TiePoints: false
Supports Statistics: false
Supports Advanced Queries: false
Use StandardizedQueries: true
Raster Type Infos:
Name: Raster Dataset
Description: Supports all ArcGIS Raster Datasets
Help:
Has Raster Attribute Table: false
Edit Fields Info: null
Ownership Based AccessControl For Rasters: null
Child Resources:
Info
Statistics
Key Properties
Legend
Raster Function Infos
Supported Operations:
Export Image
Identify
Measure
Compute Histograms
Compute Statistics Histograms
Get Samples
Compute Class Statistics
Query Boundary
Compute Pixel Location
Compute Angles
Validate
Project